BEGIN:VCALENDAR
VERSION:2.0
PRODID:-//Kat Davidson - ECPv6.1.3//NONSGML v1.0//EN
CALSCALE:GREGORIAN
METHOD:PUBLISH
X-ORIGINAL-URL:https://katdavidson.com
X-WR-CALDESC:Events for Kat Davidson
REFRESH-INTERVAL;VALUE=DURATION:PT1H
X-Robots-Tag:noindex
X-PUBLISHED-TTL:PT1H
BEGIN:VTIMEZONE
TZID:Australia/Brisbane
BEGIN:STANDARD
TZOFFSETFROM:+1000
TZOFFSETTO:+1000
TZNAME:AEST
DTSTART:20230101T000000
END:STANDARD
END:VTIMEZONE
BEGIN:VEVENT
DTSTART;VALUE=DATE:20231107
DTEND;VALUE=DATE:20231112
DTSTAMP:20260423T151657
CREATED:20231107T055526Z
LAST-MODIFIED:20231107T061105Z
UID:321-1699315200-1699747199@katdavidson.com
SUMMARY:Cruise - Pacific Encounter Melbourne Cup cruise
DESCRIPTION:Very excited to be joining the ship in Melbourne on Cup Day to bring some laughs to the passengers on the return journey to Brisbane.
URL:https://katdavidson.com/calendar/cruise-pacific-encounter-melbourne-cup-cruise/
LOCATION:Pacific Encounter\, Australia
CATEGORIES:Cruise Ship
ATTACH;FMTTYPE=image/jpeg:https://katdavidson.com/wp-content/uploads/2023/11/Pacific-Encounter.jpeg
END:VEVENT
BEGIN:VEVENT
DTSTART;TZID=Australia/Brisbane:20231113T190000
DTEND;TZID=Australia/Brisbane:20231113T210000
DTSTAMP:20260423T151657
CREATED:20231107T055954Z
LAST-MODIFIED:20231107T061149Z
UID:324-1699902000-1699909200@katdavidson.com
SUMMARY:Newmarket Hotel Open Mic Night MC
DESCRIPTION:Every Monday night at the Newmarket Hotel\, you can see the birth or death of dreams. New comics figuring it all out\, more established comics trying out new stuff\, and a pro MC to keep it all trucking along. I love this night – the crowd is always up for a good giggle\, and the comics give it their all.
URL:https://katdavidson.com/calendar/newmarket-hotel-open-mic-night-mc/
LOCATION:Newmarket Hotel\, Crn Newmarket & Enoggera Roads\, Newmarket\, QLD\, 4051\, Australia
CATEGORIES:Open Mic Comedy Night
ATTACH;FMTTYPE=image/png:https://katdavidson.com/wp-content/uploads/2023/11/Sit-Down-Logo.png
END:VEVENT
BEGIN:VEVENT
DTSTART;TZID=Australia/Brisbane:20231117T200000
DTEND;TZID=Australia/Brisbane:20231117T223000
DTSTAMP:20260423T151657
CREATED:20231107T060658Z
LAST-MODIFIED:20231107T061339Z
UID:326-1700251200-1700260200@katdavidson.com
SUMMARY:Headline - Sit Down Comedy Club
DESCRIPTION:This is going to be a good one. Two feature acts for the price of one. Shad Wicka is a very funny man.  I’m not sure he’s recovered from the Matilda’s Quarter final\, to be honest. He felt every penalty\, every goal…We were both quite prepared to leg it at our Rainbow Bay gig that night if they’d lost. \nBut at this gig\, comedy will be the winner…
URL:https://katdavidson.com/calendar/headline-sit-down-comedy-club/
LOCATION:Sit Down Comedy Club\, 168 Given Tce\, Paddington\, QLD\, 4064\, Australia
CATEGORIES:Club Comedy night
ATTACH;FMTTYPE=image/jpeg:https://katdavidson.com/wp-content/uploads/2021/06/Kat-Davidson-SCFPromo4-scaled.jpg
END:VEVENT
BEGIN:VEVENT
DTSTART;TZID=Australia/Brisbane:20231124T200000
DTEND;TZID=Australia/Brisbane:20231124T220000
DTSTAMP:20260423T151657
CREATED:20231107T062529Z
LAST-MODIFIED:20231107T062650Z
UID:332-1700856000-1700863200@katdavidson.com
SUMMARY:Double Feature - Wynnum - with Steven J Whiteley
DESCRIPTION:Hudson Brewing has beer. It’s in a lovely spot on Brisbane’s bayside at Wynnum. And\, on November 24\, it has comedy with Steven J and myself. Which is nice.
URL:https://katdavidson.com/calendar/double-feature-wynnum-with-steven-j-whiteley/
LOCATION:Hudson Brewing\, 28 Gibbs St\, Wynnnum\, 4178\, Australia
CATEGORIES:Club Comedy night
ATTACH;FMTTYPE=image/png:https://katdavidson.com/wp-content/uploads/2023/11/Hudson.png
END:VEVENT
END:VCALENDAR