BEGIN:VCALENDAR
VERSION:2.0
PRODID:-//Kat Davidson - ECPv6.1.3//NONSGML v1.0//EN
CALSCALE:GREGORIAN
METHOD:PUBLISH
X-ORIGINAL-URL:https://katdavidson.com
X-WR-CALDESC:Events for Kat Davidson
REFRESH-INTERVAL;VALUE=DURATION:PT1H
X-Robots-Tag:noindex
X-PUBLISHED-TTL:PT1H
BEGIN:VTIMEZONE
TZID:Australia/Brisbane
BEGIN:STANDARD
TZOFFSETFROM:+1000
TZOFFSETTO:+1000
TZNAME:AEST
DTSTART:20230101T000000
END:STANDARD
END:VTIMEZONE
BEGIN:VEVENT
DTSTART;TZID=Australia/Brisbane:20231221T203000
DTEND;TZID=Australia/Brisbane:20231223T223000
DTSTAMP:20260423T152052
CREATED:20231107T065259Z
LAST-MODIFIED:20231107T065352Z
UID:346-1703190600-1703370600@katdavidson.com
SUMMARY:Comedy Republic - Melbourne - December 21\, 22\, 23
DESCRIPTION:Comedy Republic is an independent theatre and bar in the heart of Melbourne presenting the best live comedy all year round. \nEstablished in March 2020\, Comedy Republic was co-founded by Kyran Wheatley\, Rhys Nicholson and Alex Dyson. Alongside the hard-working team\, they turned a former internet gaming cafe into a purpose-built theatre for comedy. With its intimate size\, wide stage and a winged audience\, the room is designed to hero standup comedians and the like. It’s small enough to elevate emerging creatives’ work\, yet large enough for intimate evenings with the biggest names in comedy. \nI cannot wait for these nights. If you’re in Melbourne\, you have to come play.
URL:https://katdavidson.com/calendar/comedy-republic-melbourne-december-21-22-23/
LOCATION:Comedy Republic\, Level 1\, 231 Bourke St\, Melbourne\, Victoria\, 3000\, Australia
CATEGORIES:Club Comedy night
ATTACH;FMTTYPE=image/jpeg:https://katdavidson.com/wp-content/uploads/2023/11/Comedy-Repubilc.jpeg
END:VEVENT
END:VCALENDAR