BEGIN:VCALENDAR
VERSION:2.0
PRODID:-//Kat Davidson - ECPv6.1.3//NONSGML v1.0//EN
CALSCALE:GREGORIAN
METHOD:PUBLISH
X-WR-CALNAME:Kat Davidson
X-ORIGINAL-URL:https://katdavidson.com
X-WR-CALDESC:Events for Kat Davidson
REFRESH-INTERVAL;VALUE=DURATION:PT1H
X-Robots-Tag:noindex
X-PUBLISHED-TTL:PT1H
BEGIN:VTIMEZONE
TZID:Australia/Brisbane
BEGIN:STANDARD
TZOFFSETFROM:+1000
TZOFFSETTO:+1000
TZNAME:AEST
DTSTART:20230101T000000
END:STANDARD
END:VTIMEZONE
BEGIN:VEVENT
DTSTART;TZID=Australia/Brisbane:20231208T200000
DTEND;TZID=Australia/Brisbane:20231209T220000
DTSTAMP:20260422T073640
CREATED:20231107T063543Z
LAST-MODIFIED:20231107T063543Z
UID:342-1702065600-1702159200@katdavidson.com
SUMMARY:Sit Down Comedy Club December 8 and 9 - Killer show...
DESCRIPTION:Two nights in December\, Brisbane will be treated to a truly awesome show. Danny McGinlay and Dave Eastgate will both feature\, and I’ll host the night. I’m above making any references to being the only act on the bill with hair. Honestly. I am. But I’m not above telling you that this show will rock. Because it literally and figuratively will. \nThe website link below is for the Saturday night\, but this is for the Friday..
URL:https://katdavidson.com/calendar/sit-down-comedy-club-december-8-and-9-killer-show/
LOCATION:Sit Down Comedy Club\, 168 Given Tce\, Paddington\, QLD\, 4064\, Australia
CATEGORIES:Club Comedy night
ATTACH;FMTTYPE=image/png:https://katdavidson.com/wp-content/uploads/2023/11/Sit-Down-Logo.png
END:VEVENT
BEGIN:VEVENT
DTSTART;TZID=Australia/Brisbane:20231227T080000
DTEND;TZID=Australia/Brisbane:20231230T170000
DTSTAMP:20260422T073640
CREATED:20231107T065846Z
LAST-MODIFIED:20231107T065846Z
UID:351-1703664000-1703955600@katdavidson.com
SUMMARY:Comedy Cruise December 27 - 30 - Pacific Explorer - Ex Melbourne
DESCRIPTION:Every act on the bill for this comedy cruise is next level funny. Radio\, TV\, writers\, creators of awards winning shows\, and exellent humans.  I’m not allowed to say who\, but I can say wow…
URL:https://katdavidson.com/calendar/comedy-cruise-december-27-30-pacific-explorer-ex-melbourne/
LOCATION:Pacific Explorer\, Australia
CATEGORIES:Cruise Ship
ATTACH;FMTTYPE=image/jpeg:https://katdavidson.com/wp-content/uploads/2023/11/Pacific-Encounter.jpeg
END:VEVENT
END:VCALENDAR