BEGIN:VCALENDAR
VERSION:2.0
PRODID:-//Kat Davidson - ECPv6.1.3//NONSGML v1.0//EN
CALSCALE:GREGORIAN
METHOD:PUBLISH
X-ORIGINAL-URL:https://katdavidson.com
X-WR-CALDESC:Events for Kat Davidson
REFRESH-INTERVAL;VALUE=DURATION:PT1H
X-Robots-Tag:noindex
X-PUBLISHED-TTL:PT1H
BEGIN:VTIMEZONE
TZID:Australia/Brisbane
BEGIN:STANDARD
TZOFFSETFROM:+1000
TZOFFSETTO:+1000
TZNAME:AEST
DTSTART:20240101T000000
END:STANDARD
END:VTIMEZONE
BEGIN:VEVENT
DTSTART;TZID=Australia/Brisbane:20240424T193000
DTEND;TZID=Australia/Brisbane:20240424T213000
DTSTAMP:20260422T040905
CREATED:20240413T070658Z
LAST-MODIFIED:20240413T070658Z
UID:364-1713987000-1713994200@katdavidson.com
SUMMARY:New Open Mic Night - the bar name makes it already funny...
DESCRIPTION:It’s the first night we’re doing open mic at the Doo – Bop bar. So it’ll be me hosting\, a cast of hopefuls\, and I will absolutely be stealing over to the bar next door because it is awesome. Plague masks\, strong cocktails\, a playlist that includes Echo and The Bunnymen\, the Cure\, Franz Ferdinand\, Morrissey and all played at a volume I don’t have to yell over? Yes. All the yes. Dr Gimlette – you get me.
URL:https://katdavidson.com/calendar/new-open-mic-night-the-bar-name-makes-it-already-funny/
LOCATION:Do Bop Bar\, 101 Edward Street\, Brisbane\, QLD\, 4000\, Australia
CATEGORIES:Open Mic Comedy Night
END:VEVENT
END:VCALENDAR